BEGIN:VCALENDAR
VERSION:2.0
PRODID:-//Events//NONSGML v1.0//EN
METHOD:PUBLISH
BEGIN:VEVENT
DTSTART;TZID="Pacific Time (US & Canada)":20220426T163000
DTEND;TZID="Pacific Time (US & Canada)":20220426T170000
SUMMARY:5 Financial Books to Reccommend
LOCATION:Online
DESCRIPTION:Join Peer Advisor David on a crash course of beneficial books to help with financial literacy.\n\nHe will be discussing 5 highly recommended books:\n\n\n\n 	Rich Dad Poor Dad By Robert Kiyosaki\n\n 	You Need A Budget By Jesse Mecham\n\n 	Worth It By Amanda Steinberg\n\n 	Broke Millennial By Erin Lowry\n\n 	Million Dollar Habits By Stellan Moreira\n\n\n\nWithin 30 minutes, David will be summarizing 10 hours worth of reading!
BEGIN:VALARM
ACTION:DISPLAY
DESCRIPTION:REMINDER
TRIGGER;RELATED=START:-PT00H15M00S
END:VALARM
END:VEVENT
END:VCALENDAR
