BEGIN:VCALENDAR
VERSION:2.0
PRODID:-//Events//NONSGML v1.0//EN
METHOD:PUBLISH
BEGIN:VEVENT
DTSTART;TZID="Pacific Time (US & Canada)":20240321T153000
DTEND;TZID="Pacific Time (US & Canada)":20240321T163000
SUMMARY:Advances in Immunology and Microbiology Seminar Series: Elis Fisk
LOCATION:Bustad Hall
DESCRIPTION:Featuring research in the areas of:\n\nEpidemiology | Infectious Disease | Disease Ecology | Drug Discovery | Virology |\n\nGlobal Health | Vector-Borne Disease | Pathology\n\nThe Advances in Immunology &amp; Microbiology seminar series is a weekly forum that brings together scientists from diverse fields and disciplines across the College of Veterinary Medicine to discuss research advances in the broad areas of immunology, microbiology, infectious diseases, and global health. Seminars feature student speakers from the Immunology &amp; Infectious Disease (IID) doctoral program, IID-affiliated postdoctoral researchers and faculty, intramural speakers from across the university, and extramural speakers.\n\n\n\nPRESENTER: Elis Fisk, Anatomic Pathology Resident &amp; PhD Student, Shaw Lab, Veterinary Pathology &amp; Microbiology, and Washington Animal Disease Diagnostic Laboratory\n\nTITLE: A treat unfit to eat: Larval Ixodes scapularis elicit tick resistance in a reservoir host\n\nABSTRACT: The persistence and spread of tick-borne pathogens are dependent upon interactions between arthropods and their hosts, including host immune responses to the tick itself. While native hosts tolerate repeated infestations with tick species sharing their native range, non-native hosts can develop an immune response with repeated infestations. This phenomenon, termed acquired rick resistance (ATR), leads to rejection and/or death of the tick. However, the research characterizing ATR has largely focused on nymphal ticks. It is unclear whether different tick life-stages elicit differing ATR responses in native hosts. This seminar will discuss the ATR dynamics between native murine hosts and the different life stages of Ixodes scapularis.
BEGIN:VALARM
ACTION:DISPLAY
DESCRIPTION:REMINDER
TRIGGER;RELATED=START:-PT00H15M00S
END:VALARM
END:VEVENT
END:VCALENDAR
