BEGIN:VCALENDAR
VERSION:2.0
PRODID:-//Events//NONSGML v1.0//EN
METHOD:PUBLISH
BEGIN:VEVENT
DTSTART;TZID="Pacific Time (US & Canada)":20240328T153000
DTEND;TZID="Pacific Time (US & Canada)":20240328T163000
SUMMARY:Advances in Immunology and Microbiology Seminar Series: Grace Miller
LOCATION:Bustad Hall
DESCRIPTION:Featuring research in the areas of:\n\nEpidemiology | Infectious Disease | Disease Ecology | Drug Discovery | Virology |\n\nGlobal Health | Vector-Borne Disease | Pathology\n\nThe Advances in Immunology &amp; Microbiology seminar series is a weekly forum that brings together scientists from diverse fields and disciplines across the College of Veterinary Medicine to discuss research advances in the broad areas of immunology, microbiology, infectious diseases, and global health. Seminars feature student speakers from the Immunology &amp; Infectious Disease (IID) doctoral program, IID-affiliated postdoctoral researchers and faculty, intramural speakers from across the university, and extramural speakers.\n\n\n\nPRESENTER: Grace Miller, PhD student; Advisor. Dr. Santanu Bose; Veterinary Microbiology &amp; Pathology\n\nTITLE: TBA\n\n&nbsp;\n\n&nbsp;
BEGIN:VALARM
ACTION:DISPLAY
DESCRIPTION:REMINDER
TRIGGER;RELATED=START:-PT00H15M00S
END:VALARM
END:VEVENT
END:VCALENDAR
