BEGIN:VCALENDAR
VERSION:2.0
PRODID:-//Events//NONSGML v1.0//EN
METHOD:PUBLISH
BEGIN:VEVENT
DTSTART;TZID="Pacific Time (US & Canada)":20210202T070000
DTEND;TZID="Pacific Time (US & Canada)":20210202T130000
SUMMARY:AGCareers.com Virtual Career Fair
LOCATION:Online
DESCRIPTION:AGCareers.com is hosting a Virtual Career Fair for Ag and Food majors. The purpose of this event is to connect students with employers and the event is open to all university and college students. Learn more &amp; register: https://www.careereco.com/Fair/EventDetails?fairId=13c58da1-e33f-4d43-925f-ac70015fbf63
BEGIN:VALARM
ACTION:DISPLAY
DESCRIPTION:REMINDER
TRIGGER;RELATED=START:-PT00H15M00S
END:VALARM
END:VEVENT
END:VCALENDAR
