BEGIN:VCALENDAR
VERSION:2.0
PRODID:-//Events//NONSGML v1.0//EN
METHOD:PUBLISH
BEGIN:VEVENT
DTSTART;TZID="Pacific Time (US & Canada)":20200305T163000
DTEND;TZID="Pacific Time (US & Canada)":20200305T173000
SUMMARY:Arshia Fatima Haq 2020 Jo Hockenhull distinguished visiting artist lecture
LOCATION:Fine Arts Building, Pullman, WA 99164
DESCRIPTION:Please join the Program in Women’s, Gender, and Sexuality Studies, the Department of Fine Arts, the Center for Arts and Humanities, and the Women*s Center\n\nWednesday, March 4, 4-7 p.m.. immersive installation/performance\n\n“Sama: The Divine Listening Room”\n\nGallery 2, Fine Arts Building\n\n*****\n\nThursday, March 5, 4:30-5:30 p.m., Artist Lecture\n\n“Entering the Psychodelic Islamic State:\n\nFrom Discostan to Sama and the Sonic Ummah\n\nFine Arts Auditorium (5062)\n\nReception to Follow\n\n\n\n&nbsp;
BEGIN:VALARM
ACTION:DISPLAY
DESCRIPTION:REMINDER
TRIGGER;RELATED=START:-PT00H15M00S
END:VALARM
END:VEVENT
END:VCALENDAR
