BEGIN:VCALENDAR
VERSION:2.0
PRODID:-//Events//NONSGML v1.0//EN
METHOD:PUBLISH
BEGIN:VEVENT
DTSTART;TZID="Pacific Time (US & Canada)":20220311T090000
DTEND;TZID="Pacific Time (US & Canada)":20220311T110000
SUMMARY:Arts &amp; Sciences &#8212; 3 Minute Thesis Contest
LOCATION:Online
DESCRIPTION:The College of Arts &amp; Sciences 3MT research communication competition challenges PhD students to present a compelling oration about their thesis and its significance in just three minutes—and using just one visual slide—in language appropriate to a non-specialist audience.\n\nWinner of the CAS semi-final event will receive a $1,000 award for fall 2022, and will advance to the WSU 3MT Competition during the week of March 21 – 25, 2022. The CAS 3MT runner up and people’s choice each will receive a $500 award for fall 2022.
BEGIN:VALARM
ACTION:DISPLAY
DESCRIPTION:REMINDER
TRIGGER;RELATED=START:-PT00H15M00S
END:VALARM
END:VEVENT
END:VCALENDAR
