BEGIN:VCALENDAR
VERSION:2.0
PRODID:-//Events//NONSGML v1.0//EN
METHOD:PUBLISH
BEGIN:VEVENT
DTSTART;TZID="Pacific Time (US & Canada)":20200226T173000
DTEND;TZID="Pacific Time (US & Canada)":20200226T183000
SUMMARY:ASME weekly meeting
LOCATION:Dana Hall
DESCRIPTION:ASME is the American Society of Mechanical Engineers. This group is the standard professional society for Mechanical Engineers at WSU. This group is here for both networking and projects that build up your resume.\n\nJoin the Slack page for various updates at asmewsu.slack.com
BEGIN:VALARM
ACTION:DISPLAY
DESCRIPTION:REMINDER
TRIGGER;RELATED=START:-PT00H15M00S
END:VALARM
END:VEVENT
END:VCALENDAR
