BEGIN:VCALENDAR
VERSION:2.0
PRODID:-//Events//NONSGML v1.0//EN
METHOD:PUBLISH
BEGIN:VEVENT
DTSTART;TZID="Pacific Time (US & Canada)":20240129T180000
DTEND;TZID="Pacific Time (US & Canada)":20240129T190000
SUMMARY:ASWSUG BYOC Craft Together
LOCATION:Online
DESCRIPTION:It&#039;s a BYOC- Bring Your Own Craft on Zoom! ALL WSU students and staff are welcome to attend.\n\nHang out with fellow Cougs and share what you&#039;re working on! Be it writing, drawing, sewing, scrapbooking, and whatever else, we&#039;d love to see what you&#039;re passionate about!\n\nThis is also a chance to score an ASWSUG swag just by attending and participating.\n\nPlease register to receive the Zoom link via email.
BEGIN:VALARM
ACTION:DISPLAY
DESCRIPTION:REMINDER
TRIGGER;RELATED=START:-PT00H15M00S
END:VALARM
END:VEVENT
END:VCALENDAR
