BEGIN:VCALENDAR
VERSION:2.0
PRODID:-//Events//NONSGML v1.0//EN
METHOD:PUBLISH
BEGIN:VEVENT
DTSTART;TZID="Pacific Time (US & Canada)":20240109T110000
DTEND;TZID="Pacific Time (US & Canada)":20240109T120000
SUMMARY:ASWSUG Coug Day at the Capitol
LOCATION:Online
DESCRIPTION:Join us for a presentation about Coug Day at the Capitol, an event hosted by ASWSUG.\n\nYou will learn what Coug Day is, where it takes place, how you can join us, and how to prepare for the event. WSU Global Prizes will randomly be awarded to five students who attend this webinar.\n\nBe sure to click &quot;RSVP&quot; to register and receive the Zoom link via email.
BEGIN:VALARM
ACTION:DISPLAY
DESCRIPTION:REMINDER
TRIGGER;RELATED=START:-PT00H15M00S
END:VALARM
END:VEVENT
END:VCALENDAR
