BEGIN:VCALENDAR
VERSION:2.0
PRODID:-//Events//NONSGML v1.0//EN
METHOD:PUBLISH
BEGIN:VEVENT
DTSTART;TZID="Pacific Time (US & Canada)":20240318T130000
DTEND;TZID="Pacific Time (US & Canada)":20240318T140000
SUMMARY:ASWSUG Cougs Chat &#8211; MONDAY
LOCATION:Online
DESCRIPTION:Looking for ways to get connected?\n\nCome join us for a fun-filled afternoon getting to know your executive board and fellow Global students.\n\nYou can win awesome prizes in our fun and engaging games.\n\nWe also do study hours at times to relax, ask questions, and share ideas on preparing for exams.\n\nEveryone is welcome and the S &amp; A fee-paying, Global students will receive an ASWSUG swag just by attending.\n\nWe meet alternating Mondays and Wednesdays on the following dates:\n\nMONDAYS at 1:00 - 2:00 PM PST: 22 January, 5 February, 19 February, 4 March, 18 March, 1 April, 15 April, 29 April\n\nWEDNESDAYS at 6:30 - 7:30 PM PST: 17 January, 31 January, 14 February, 28 February, 13 March, 27 March, 10 April, 24 April, 8 May\n\nPlease click RSVP to register to receive a Zoom link via email.
BEGIN:VALARM
ACTION:DISPLAY
DESCRIPTION:REMINDER
TRIGGER;RELATED=START:-PT00H15M00S
END:VALARM
END:VEVENT
END:VCALENDAR
