BEGIN:VCALENDAR
VERSION:2.0
PRODID:-//Events//NONSGML v1.0//EN
METHOD:PUBLISH
BEGIN:VEVENT
DTSTART;TZID="Pacific Time (US & Canada)":20231130T180000
DTEND;TZID="Pacific Time (US & Canada)":20231130T190000
SUMMARY:ASWSUG Executive Board Meeting
LOCATION:Online
DESCRIPTION:The Executive Board cordially invites students to attend our executive meeting.\n\nWe encourage you to stop in and learn more!\n\nJoin us every Thursday, unless otherwise indicated.\n\nThis is a recurring weekly event. We look forward to seeing you there!\n\n&nbsp;
BEGIN:VALARM
ACTION:DISPLAY
DESCRIPTION:REMINDER
TRIGGER;RELATED=START:-PT00H15M00S
END:VALARM
END:VEVENT
END:VCALENDAR
