BEGIN:VCALENDAR
VERSION:2.0
PRODID:-//Events//NONSGML v1.0//EN
METHOD:PUBLISH
BEGIN:VEVENT
DTSTART;TZID="Pacific Time (US & Canada)":20240305T170000
DTEND;TZID="Pacific Time (US & Canada)":20240305T180000
SUMMARY:ASWSUG International Women&#8217;s Day Documentary
LOCATION:Online
DESCRIPTION:Join us in watching this documentary on Tubi.\n\nThis 42-minute documentary identifies the meaning of feminism. To showcase the 100th anniversary of International Women’s Day (in 2011), this documentary explains what feminism means to the world and what the future holds for women’s rights. This documentary talks about equality and how women work just as hard, if not harder, than men but do not receive the same treatment or benefits in the workplace, with insights from Germaine Greer, Susan Faludi, and Naomi Wolf.\n\nOpen to all WSU students and staff but only the S &amp; A fee-paying, global students who come and participate will receive some ASWSUG swag.\n\nQuestions? Please contact the ASWSUG Director of Diversity at global.diversity@wsu.edu.
BEGIN:VALARM
ACTION:DISPLAY
DESCRIPTION:REMINDER
TRIGGER;RELATED=START:-PT00H15M00S
END:VALARM
END:VEVENT
END:VCALENDAR
