BEGIN:VCALENDAR
VERSION:2.0
PRODID:-//Events//NONSGML v1.0//EN
METHOD:PUBLISH
BEGIN:VEVENT
DTSTART;TZID="Pacific Time (US & Canada)":20240410T173000
DTEND;TZID="Pacific Time (US & Canada)":20240410T183000
SUMMARY:ASWSUG Make Your Own Bath Bombs
LOCATION:Online
DESCRIPTION:With finals week coming up, and Mother&#039;s Day just around the corner, there&#039;s no time to spare.\n\nJoin us in making bath bombs as a great gift for yourself or your mom!\n\nGlobal Campus S&amp;A fee-paying students: \n\n\n\n 	The first 10 students to sign up by March 25, 2023, will get a free bath bomb kit that makes 3 bath bombs.\n\n 	This is also a chance to receive ASWSUG swag just by attending.\n\n\n\nAll other attendees:\n\n\n\n 	Please supply your bath bomb kits.\n\n\n\nPlease register to receive the Zoom link via email.
BEGIN:VALARM
ACTION:DISPLAY
DESCRIPTION:REMINDER
TRIGGER;RELATED=START:-PT00H15M00S
END:VALARM
END:VEVENT
END:VCALENDAR
