BEGIN:VCALENDAR
VERSION:2.0
PRODID:-//Events//NONSGML v1.0//EN
METHOD:PUBLISH
BEGIN:VEVENT
DTSTART;TZID="Pacific Time (US & Canada)":20231006T121000
DTEND;TZID="Pacific Time (US & Canada)":20231006T130000
SUMMARY:Atrium Recital Series
LOCATION:Terrell Library Atrium, Pullman, WA 99164
DESCRIPTION:WSU Choral Ensembles\n\nDean Leuthi and Matthew Myers, conductors\n\nElena Panchenko, piano\n\nChoral selections about exploration and travel
BEGIN:VALARM
ACTION:DISPLAY
DESCRIPTION:REMINDER
TRIGGER;RELATED=START:-PT00H15M00S
END:VALARM
END:VEVENT
END:VCALENDAR
