BEGIN:VCALENDAR
VERSION:2.0
PRODID:-//Events//NONSGML v1.0//EN
METHOD:PUBLISH
BEGIN:VEVENT
DTSTART;TZID="Pacific Time (US & Canada)":20231013T121000
DTEND;TZID="Pacific Time (US & Canada)":20231013T130000
SUMMARY:Atrium Recital Series
LOCATION:Terrell Library Atrium, Pullman, WA 99164
DESCRIPTION:Fabio Menchetti, piano\n\nMusic by Mozart, Mendelssohn, and Schumann
BEGIN:VALARM
ACTION:DISPLAY
DESCRIPTION:REMINDER
TRIGGER;RELATED=START:-PT00H15M00S
END:VALARM
END:VEVENT
END:VCALENDAR
