BEGIN:VCALENDAR
VERSION:2.0
PRODID:-//Events//NONSGML v1.0//EN
METHOD:PUBLISH
BEGIN:VEVENT
DTSTART;TZID="Pacific Time (US & Canada)":20231027T121000
DTEND;TZID="Pacific Time (US & Canada)":20231027T130000
SUMMARY:Atrium Recital Series
LOCATION:Terrell Library Atrium, Pullman, WA 99164
DESCRIPTION:WSU Trombone Studio\n\nSarah Miller, director\n\nFeaturing the WSU Trombone Choir and solos by members of the WSU Trombone Studio.
BEGIN:VALARM
ACTION:DISPLAY
DESCRIPTION:REMINDER
TRIGGER;RELATED=START:-PT00H15M00S
END:VALARM
END:VEVENT
END:VCALENDAR
