BEGIN:VCALENDAR
VERSION:2.0
PRODID:-//Events//NONSGML v1.0//EN
METHOD:PUBLISH
BEGIN:VEVENT
DTSTART;TZID="Pacific Time (US & Canada)":20231003T180000
DTEND;TZID="Pacific Time (US & Canada)":20231003T191500
SUMMARY:Banned Books from Around the World
LOCATION:Terrell Library Atrium, Pullman, WA 99164
DESCRIPTION:Celebrate Banned Books Week 2023 with the David G. Pollart Center for Arts and Humanities (CAH). The CAH invites you to its panel titled &quot;Banned Books from Around the World.&quot; The Panel will occur on Tuesday, October 3, from 6-7:15 at the Terrell Library Atrium.\n\nOur speakers are:\n\n\n\n 	Colin Criss, Assistant Professor at the WSU Honors College and Editor of the Palouse Review\n\n 	Gabriella Reznowski, Faculty and Business and Economics Librarian, WSU Libraries\n\n 	Jessie Padilla, PhD Candidate in Rhetoric and Composition, Department of English at WSU\n\n 	Sezin Zorlu, PhD Student in Literary Studies, Department of English at WSU\n\n\n\nWe look forward to seeing you there! There will be cookies!
BEGIN:VALARM
ACTION:DISPLAY
DESCRIPTION:REMINDER
TRIGGER;RELATED=START:-PT00H15M00S
END:VALARM
END:VEVENT
END:VCALENDAR
