BEGIN:VCALENDAR
VERSION:2.0
PRODID:-//Events//NONSGML v1.0//EN
METHOD:PUBLISH
BEGIN:VEVENT
DTSTART;TZID="Pacific Time (US & Canada)":20240115T070000
DTEND;TZID="Pacific Time (US & Canada)":20240229T235500
SUMMARY:BLACK HISTORY MONTH Pop-Up Shop
LOCATION:Online
DESCRIPTION:BE ON THE LOOKOUT!!!\n\nIn celebration of Martin Luther King Jr.’s birthday and in honor of Black History Month, ASWSUG along with College Hill have designed and created an exclusive pop-up shop!\n\nOur exclusive Black History Month T-shirt is more than just clothing; it’s a statement of pride, empowerment, and unity and by wearing the t-shirt, you agree.\n\nOur eye-catching design pays homage to the resilience and strength, of the African American community throughout history.\n\nWear it with pride and let your style make a statement.\n\n&nbsp;\n\nATTENTION: All S&amp;A fee paying students, attend at least one ASWSUG events between 01/15-02/29 and you could win a free t-shirt. RSVP to register on these events to receive the Zoom link to your email.\n\nCOUG DAY at the Capitol Information Webinar - 9 January at 11:00 AM PST\n\nCougs Get Lit - 10 January 2024\n\nCougs Get Lit - 7 February 2024\n\nCOUG DAY at the Capitol In-Person - 21-22 January at 8:00 AM PST\n\nSHOGATSU (Japanese New Year) - 24 January at 5:30 PM PST\n\nBYOC Craft Together - 29 January at 6:00 PM PST\n\nCHINESE NEW YEAR Game Night - 5 February at 5:00 PM PST\n\nPAINT &amp; SIP - 6 February at 5:00 PM PST\n\nVALENTINE&#039;s Movie Night - 13 February at 5:00 PM PST\n\nSPRING Embroidery - 23 February at 5:00 PM PST\n\nBLACK HISTORY MONTH Movie Night - 28 February at 5:00 PM PST
BEGIN:VALARM
ACTION:DISPLAY
DESCRIPTION:REMINDER
TRIGGER;RELATED=START:-PT00H15M00S
END:VALARM
END:VEVENT
END:VCALENDAR
