BEGIN:VCALENDAR
VERSION:2.0
PRODID:-//Events//NONSGML v1.0//EN
METHOD:PUBLISH
BEGIN:VEVENT
DTSTART;TZID="Pacific Time (US & Canada)":20200414T141000
DTEND;TZID="Pacific Time (US & Canada)":20200414T150000
SUMMARY:Blackboard Learn Grade Center
LOCATION:
DESCRIPTION:We’ll explain different setup options, show how to grade and comment on student work, and demonstrate how to use the electronic rubric.\n\nWe look forward to seeing you there!\n\nThe Learning Innovations Team\n\nFor a full list of training and other Learning Innovation events, please visit the faculty workshop training schedule on the LI website.
BEGIN:VALARM
ACTION:DISPLAY
DESCRIPTION:REMINDER
TRIGGER;RELATED=START:-PT00H15M00S
END:VALARM
END:VEVENT
END:VCALENDAR
