BEGIN:VCALENDAR
VERSION:2.0
PRODID:-//Events//NONSGML v1.0//EN
METHOD:PUBLISH
BEGIN:VEVENT
DTSTART;TZID="Pacific Time (US & Canada)":20191204T151000
DTEND;TZID="Pacific Time (US & Canada)":20191204T160000
SUMMARY:Blackboard Learn: Grade Center
LOCATION:Spark
DESCRIPTION:In this training, we will explain different grade center set up options, show how to grade and comment on student work, and demonstrate how to use the electronic rubric.\n\nWe look forward to seeing you there!\n\nThe Learning Innovations Team\n\nFor more Learning Innovation events, please visit the faculty workshop training schedule on the LI website.
BEGIN:VALARM
ACTION:DISPLAY
DESCRIPTION:REMINDER
TRIGGER;RELATED=START:-PT00H15M00S
END:VALARM
END:VEVENT
END:VCALENDAR
