BEGIN:VCALENDAR
VERSION:2.0
PRODID:-//Events//NONSGML v1.0//EN
METHOD:PUBLISH
BEGIN:VEVENT
DTSTART;TZID="Pacific Time (US & Canada)":20190930T153000
DTEND;TZID="Pacific Time (US & Canada)":20190930T160000
SUMMARY:BP Cherry Point Refinery info session
LOCATION:Sloan Hall, 305 NE Spokane Street, Pullman, WA 99163
DESCRIPTION:Join us to learn more about Mechanical, Electrical and Chemical Engineering internship and full-time opportunities with BP. We currently have roles available that present a chance to start learning and growing with us as you work on exciting and technically challenging projects our industry has to offer.\n\nPizza and refreshments will be available.
BEGIN:VALARM
ACTION:DISPLAY
DESCRIPTION:REMINDER
TRIGGER;RELATED=START:-PT00H15M00S
END:VALARM
END:VEVENT
END:VCALENDAR
