BEGIN:VCALENDAR
VERSION:2.0
PRODID:-//Events//NONSGML v1.0//EN
METHOD:PUBLISH
BEGIN:VEVENT
DTSTART;TZID="Pacific Time (US & Canada)":20241007T163000
DTEND;TZID="Pacific Time (US & Canada)":20241007T183000
SUMMARY:BP &#8211; Coug Employer Meet-up
LOCATION:Smith Center for Undergraduate Education (CUE)
DESCRIPTION:Join BP employees to network and learn about job opportunities for ME, EE, and ChemE majors. Food will be provided.
BEGIN:VALARM
ACTION:DISPLAY
DESCRIPTION:REMINDER
TRIGGER;RELATED=START:-PT00H15M00S
END:VALARM
END:VEVENT
END:VCALENDAR
