BEGIN:VCALENDAR
VERSION:2.0
PRODID:-//Events//NONSGML v1.0//EN
METHOD:PUBLISH
BEGIN:VEVENT
DTSTART;TZID="Pacific Time (US & Canada)":20191122T161000
DTEND;TZID="Pacific Time (US & Canada)":20191122T170000
SUMMARY:Brass Chamber Music + LIVESTREAM
LOCATION:Bryan Hall
DESCRIPTION:Groups involved include the WSU Trombone Choir, the WSU Trumpet Ensemble, the WSU Horn Choir, the Anthracite Tuba Quartet, and the WSU Tuba Choir.\n\nThis concert is open to the public and without charge.
BEGIN:VALARM
ACTION:DISPLAY
DESCRIPTION:REMINDER
TRIGGER;RELATED=START:-PT00H15M00S
END:VALARM
END:VEVENT
END:VCALENDAR
