BEGIN:VCALENDAR
VERSION:2.0
PRODID:-//Events//NONSGML v1.0//EN
METHOD:PUBLISH
BEGIN:VEVENT
DTSTART;TZID="Pacific Time (US & Canada)":20230425T160000
DTEND;TZID="Pacific Time (US & Canada)":20230425T170000
SUMMARY:Building Credit Zoom Webinar
LOCATION:Online
DESCRIPTION:Credit has a powerful impact on our lives! It affects our ability to rent an apartment, get a job and even purchase a home. This informative presentation teaches participants about credit reports and credit scores, the benefits of having good credit and ten keys to effective credit building.\n\nHosted by College Affordability Programs.
BEGIN:VALARM
ACTION:DISPLAY
DESCRIPTION:REMINDER
TRIGGER;RELATED=START:-PT00H15M00S
END:VALARM
END:VEVENT
END:VCALENDAR
