BEGIN:VCALENDAR
VERSION:2.0
PRODID:-//Events//NONSGML v1.0//EN
METHOD:PUBLISH
BEGIN:VEVENT
DTSTART;TZID="Pacific Time (US & Canada)":20231014T090000
DTEND;TZID="Pacific Time (US & Canada)":20231014T150000
SUMMARY:BVC Birthday Bash!
LOCATION:Brelsford WSU Visitor Center, 150 E Spring St, Pullman, WA 99163
DESCRIPTION:Join us in celebrating 10 years as the Brelsford WSU Visitor Center during our three-day BVC Birthday Bash! Our iconic red building and 15-foot WSU letters were dedicated on Oct. 12, 2013, and we&#039;re starting celebrations on Thursday to commemorate the last decade and cheers to the next 10 years.\n\nThursday, Oct. 12\n\nThe BVC&#039;s official 10th birthday! Visitors will receive specialty crimson and gray birthday M&amp;M goody bags and limited edition BVC Birthday Bash clear swag bags throughout the day (while supplies last). Hours: 8 a.m. -5 p.m.\n\nFriday, Oct. 13\n\nThe celebration continues with an all-day, crimson-themed dessert bar and a special WSU Alumni Association Cougar Collectors&#039; Series wine tasting! The wine tasting will be 4-6 p.m. featuring 1 oz. tastings of Cougar VIII, IX and X. Tasting tickets cost $10 at the door and are limited to one per person with a valid ID. Visitors will again receive a limited edition BVC Birthday Bash clear swag bag while supplies last! Hours: 8 a.m.-6 p.m.\n\nSaturday, Oct. 14\n\nFestivities will continue with traditional Cougar football and Homecoming weekend activities! We&#039;ll have snacks, sports posters and can assist with all game day information, including pregame activities, parking permit sales and other transportation options. Hours: 9 a.m.-3 p.m.\n\nMore information available at visitor.wsu.edu or by following the Brelsford WSU Visitor Center on Facebook, Instagram and Twitter.
BEGIN:VALARM
ACTION:DISPLAY
DESCRIPTION:REMINDER
TRIGGER;RELATED=START:-PT00H15M00S
END:VALARM
END:VEVENT
END:VCALENDAR
