BEGIN:VCALENDAR
VERSION:2.0
PRODID:-//Events//NONSGML v1.0//EN
METHOD:PUBLISH
BEGIN:VEVENT
DTSTART;TZID="Pacific Time (US & Canada)":20241104T180000
DTEND;TZID="Pacific Time (US & Canada)":20241104T190000
SUMMARY:CAH Public Lecture: &#8220;The Clyfford Still Museum and the Colville Confederated Tribes Partner for the Future&#8221; by Michael Holloman
LOCATION:Off Campus
DESCRIPTION:CAH Public Lecture: &quot;The Clyfford Still Museum and the Colville Confederated Tribes Partner for the Future&quot; by Michael Holloman\n\nDate/Time: November 4, 6-7pm\n\nLocation: Neill Public Library\n\n \n\nThere will be cookies!\n\n\n\n\n\n\n\n\n\nDescription: \n\nBuilding partnerships with groups historically excluded from museum spaces is often problematic because of institutionalized power structures, traditions of harm, and systemic barriers. So how can museums—historically extractive by design—shift their practices to empower networks through restorative action? Alongside representatives from the Confederated Tribes of the Coville Reservation located in North Central Washington, WSU Department of Art associate professor Michael Holloman has worked with the Clyfford Still Museum (CSM) in Denver, Colorado, to bridge regional and cultural divides by using their collections as the starting point to build community, foster authentic connections, and open reciprocal pathways for communication.\n\nWhile working as an Instructor at the Washington State College (WSC) in Pullman during the mid-1930s, influential American artist Clyfford Still assisted in founding a summer art colony on the Colville Reservation for WSC community members and artists working in the area. Still became one of its first instructors. The colony continued during the summers at Nespelem from 1937-41. Still’s experience was transformative in his artistic development, and during his time in Nespelem, Still made over 120 artworks, took photographs, and recorded his experience in journals—which are almost all now in the collection of the Clyfford Still Museum. These objects reveal how Still’s engagement with the Colville community profoundly impacted his work.\n\nSpeaker Bio:\n\nMichael Holloman (Confederated Tribes of the Colville Reservation) works and lives in the ancestorial homelands of the Nimiipuu (Nez Perce) and Palus peoples. He is an associate professor of art and coordinator of Native American Arts, Outreach, and Education at Washington State University-Pullman. Prior, he was an associate professor at Seattle University, and later the director of American Indian exhibits, collection management and educational programming at the Northwest Museum of Arts and Culture in Spokane. Michael has developed extensive relationships with Native communities, artists, and art and cultural organizations across the region that support art-based programming and partnerships. He is a proud parent, an exhibiting artist, and a mediocre, yet passionate golfer.\n\n
BEGIN:VALARM
ACTION:DISPLAY
DESCRIPTION:REMINDER
TRIGGER;RELATED=START:-PT00H15M00S
END:VALARM
END:VEVENT
END:VCALENDAR
