BEGIN:VCALENDAR
VERSION:2.0
PRODID:-//Events//NONSGML v1.0//EN
METHOD:PUBLISH
BEGIN:VEVENT
DTSTART;TZID="Pacific Time (US & Canada)":20200409T160000
DTEND;TZID="Pacific Time (US & Canada)":20200409T170000
SUMMARY:CANCELLED: Community of Practice: Things that cross my mind while standing in front of students
LOCATION:Spark
DESCRIPTION:As fellow instructors, we know that teaching has its layers of sweet and sour; a compelling medley of challenges and instructional opportunity that keep us returning to the front of the classroom, semester after semester.\n\nJoin your colleagues in this informal COP Session Six as we read and discuss chapter six of &quot;How Learning Works&quot; by S.A. Ambrose, et al.\n\nWe look forward to seeing you there,\n\nThe Learning Innovations Team\n\nFor more Learning Innovations events, please visit the faculty workshop training schedule on the LI website.\n\n&nbsp;
BEGIN:VALARM
ACTION:DISPLAY
DESCRIPTION:REMINDER
TRIGGER;RELATED=START:-PT00H15M00S
END:VALARM
END:VEVENT
END:VCALENDAR
