BEGIN:VCALENDAR
VERSION:2.0
PRODID:-//Events//NONSGML v1.0//EN
METHOD:PUBLISH
BEGIN:VEVENT
DTSTART;TZID="Pacific Time (US & Canada)":20230203T120000
DTEND;TZID="Pacific Time (US & Canada)":20230203T130000
SUMMARY:Careers in Libraries and Archives
LOCATION:Online
DESCRIPTION:Speakers:\n\nDr. Trevor Bond (he/his), Associate Dean for Digital Initiatives and Special Collections and Director of the Center for Arts and Humanities at Washington State University (PhD Public History, WSU)\n\nDr. Nora Kuster (she/her), Head of the Humanities Library, Subject Librarian for English and American Studies and Director of the USA-Bibliothek at the University of Mainz in Germany (PhD English--Literary Studies, WSU)\n\nKathryn Manis (she/their), Special Collections Instructor and Community Engagement Librarian at the University of Georgia in Athens (PhD candidate English--Rhetoric and Composition, WSU)\n\n&nbsp;
BEGIN:VALARM
ACTION:DISPLAY
DESCRIPTION:REMINDER
TRIGGER;RELATED=START:-PT00H15M00S
END:VALARM
END:VEVENT
END:VCALENDAR
