BEGIN:VCALENDAR
VERSION:2.0
PRODID:-//Events//NONSGML v1.0//EN
METHOD:PUBLISH
BEGIN:VEVENT
DTSTART;TZID="Pacific Time (US & Canada)":20240112T120000
DTEND;TZID="Pacific Time (US & Canada)":20240112T130000
SUMMARY:Caring Cougar Cards &#8211; Systemwide MLK Service Project
LOCATION:Online
DESCRIPTION:&quot;Everybody can be great because everybody can serve. ”― Martin Luther King Jr. MLK day is a national holiday meant to be observed by giving back to your community. Join WSU students, faculty, staff, and alumni, as we come together both in-person at each campus and on Zoom, to create cards to give to local community partners across the nation—community partners such as local hospitals, teen shelters, assisted living homes, etc. Virtual participants can choose to mail their homemade cards back to us to give to a certain community partner, or they can identify their own. Participants in-person will be provided with materials and those attending virtually can choose to have materials mailed to them. If you would like supplies mailed to you, please register by Monday, January 1st.
BEGIN:VALARM
ACTION:DISPLAY
DESCRIPTION:REMINDER
TRIGGER;RELATED=START:-PT00H15M00S
END:VALARM
END:VEVENT
END:VCALENDAR
