BEGIN:VCALENDAR
VERSION:2.0
PRODID:-//Events//NONSGML v1.0//EN
METHOD:PUBLISH
BEGIN:VEVENT
DTSTART;TZID="Pacific Time (US & Canada)":20170921T073000
DTEND;TZID="Pacific Time (US & Canada)":20170921T090000
SUMMARY:Carson College of Business Hosts Annual Power Breakfast in Seattle
LOCATION:
DESCRIPTION:Susan Mullaney, president, Kaiser Permanente Washington, will present “Healthcare: Bold Moves in a Time of Uncertainty” as the keynote speaker at the annual Power Breakfast networking event sponsored by the WSU Carson College of Business. The event is open to the public. Register for $40 at http://business.wsu.edu/powerbreakfast.
BEGIN:VALARM
ACTION:DISPLAY
DESCRIPTION:REMINDER
TRIGGER;RELATED=START:-PT00H15M00S
END:VALARM
END:VEVENT
END:VCALENDAR
