BEGIN:VCALENDAR
VERSION:2.0
PRODID:-//Events//NONSGML v1.0//EN
METHOD:PUBLISH
BEGIN:VEVENT
DTSTART;TZID="Pacific Time (US & Canada)":20230927T150000
DTEND;TZID="Pacific Time (US & Canada)":20230927T160000
SUMMARY:CCE Public Square: ICWA Leaders&#8217; Perspectives on Protecting Native Families and Tribal Sovereignty
LOCATION:Compton Union Building
DESCRIPTION:Join us for a Public Square discussion on the topic of Native Families’ rights and Tribes’ sovereignty. The discussion will take place on Wednesday, Sept. 27 from 3-4 p.m. in Butch’s Den in the CUB and live-streamed via the CCE’s YouTube channel.\n\nZoe Higheagle Strong, Vice Provost for Native American Relations and Programs, will moderate this excellent panel. Higheagle Strong will be joined by Sarah Kastelic, Executive Director of The National Indian Child Welfare Association (NICWA) and Kyra Antone, Communication Specialist for NICWA.\n\nAs with all Public Square discussions, we want to hear from you--there will be a live Q&amp;A session in which panelists will take your questions about issues that matter most to you.\n\nContact Dave Jones at dave.jones@wsu.edu for questions. Visit GivePulse for the latest details and to RSVP.
BEGIN:VALARM
ACTION:DISPLAY
DESCRIPTION:REMINDER
TRIGGER;RELATED=START:-PT00H15M00S
END:VALARM
END:VEVENT
END:VCALENDAR
