BEGIN:VCALENDAR
VERSION:2.0
PRODID:-//Events//NONSGML v1.0//EN
METHOD:PUBLISH
BEGIN:VEVENT
DTSTART;TZID="Pacific Time (US & Canada)":20230525T000000
DTEND;TZID="Pacific Time (US & Canada)":20230526T000000
SUMMARY:Center for Reproductive Biology 26th Annual Retreat &#8212; May 25 &amp; 26
LOCATION:Off Campus
DESCRIPTION:Theme: Exploring scientific contributions in the fields of female and male reproduction, endocrinology, reproductive disorders, and cancer biology.\n\n&nbsp;\n\nThe WSU Center for Reproductive Biology is one of the largest reproductive biology centers in the world. The inter-institutional center has nearly 90 faculty members and more than 270 students, postdoctoral fellows, and technical staff from 26 departments across the WSU system and other top-tier institutions around the country.\n\nThe center provides opportunities for investigators to collaborate, learn from one another, and advance our understanding of reproductive biology, developmental biology, and associated diseases.\n\nFollow the link above to find out more about the retreat and/or how to become a member of the Center.\n\nThe registration deadline is May 7.
BEGIN:VALARM
ACTION:DISPLAY
DESCRIPTION:REMINDER
TRIGGER;RELATED=START:-PT00H15M00S
END:VALARM
END:VEVENT
END:VCALENDAR
