BEGIN:VCALENDAR
VERSION:2.0
PRODID:-//Events//NONSGML v1.0//EN
METHOD:PUBLISH
BEGIN:VEVENT
DTSTART;TZID="Pacific Time (US & Canada)":20131203T161000
DTEND;TZID="Pacific Time (US & Canada)":20131203T170000
SUMMARY:Center for Reproductive Biology Seminar
LOCATION:
DESCRIPTION:The Center for Reproductive Biology, Washington State University and the University of Idaho, present:\n\nDr. Adam Luckenbach, Northwest Fisheries Sciences Center, Seattle, WA\n\n&quot;Strategies for sex control and manipulation in a new marine aquaculture species, sablefish (Anoplopoma fimbria)&quot;\n\nCo-Sponsored with Biological Sciences, UI
BEGIN:VALARM
ACTION:DISPLAY
DESCRIPTION:REMINDER
TRIGGER;RELATED=START:-PT00H15M00S
END:VALARM
END:VEVENT
END:VCALENDAR
