BEGIN:VCALENDAR
VERSION:2.0
PRODID:-//Events//NONSGML v1.0//EN
METHOD:PUBLISH
BEGIN:VEVENT
DTSTART;TZID="Pacific Time (US & Canada)":20130930T161000
DTEND;TZID="Pacific Time (US & Canada)":20130930T170000
SUMMARY:Center for Reproductive Biology Seminar; co-sponsored with the School of Biological Sciences &#038; the Department of Entomology
LOCATION:
DESCRIPTION:Center for Reproductive Biology Seminar\n\nWashington State University and the University of Idaho\n\nCo-sponsored with the School of Biological Sciences &amp; the Department of Entomology\n\nDr. Michael White, Fred Hutchison Cancer Research Center, University of Washington\n\n&quot;Sequence divergence and dosage compensation on the young sex chromosomes of the threespine stickleback&quot;
BEGIN:VALARM
ACTION:DISPLAY
DESCRIPTION:REMINDER
TRIGGER;RELATED=START:-PT00H15M00S
END:VALARM
END:VEVENT
END:VCALENDAR
