BEGIN:VCALENDAR
VERSION:2.0
PRODID:-//Events//NONSGML v1.0//EN
METHOD:PUBLISH
BEGIN:VEVENT
DTSTART;TZID="Pacific Time (US & Canada)":20260429T121000
DTEND;TZID="Pacific Time (US & Canada)":20260429T130000
SUMMARY:Chemistry Inorganic Seminar &#8211; Ayomide Oluwafemi
LOCATION:Fulmer Hall
DESCRIPTION:Speaker: Ayomide Oluwafemi\n\nGroup: Dr. Jack Zhang\n\nTitle: Layered zirconium phosphate: An efficient solid acid catalyst and catalysts support\n\nAbstract\n\nLayered zirconium phosphate (ZrP) is a versatile inorganic material that has attracted significant attention as a solid acid catalyst and catalyst support due to its high thermal and chemical stability, tunable acidity, and unique layered structure. This review would attempt to summarize the fundamental properties of α‑zirconium phosphate, including its structural characteristics, interlayer spacing, ion‑exchange capacity, and intercalation ability, which collectively enable precise control over catalytic behavior. The presence of Brønsted acid sites associated with surface P–OH groups and Lewis acid sites derived from Zr⁴⁺ centers underpins its effectiveness in a wide range of acid‑catalyzed reactions such as esterification, transesterification, and alkylation. Various synthesis approaches, including precipitation, hydrothermal methods, and exfoliation, as well as modification strategies such as metal doping, pillaring, and surface functionalization, are discussed in relation to performance enhancement. In addition, the role of ZrP as a catalyst support for noble metals is highlighted, emphasizing improved metal dispersion and catalytic stability. Emerging applications in intercalation catalysis, photocatalysis, electrocatalysis, and hybrid nanomaterials would also be presented. Finally, recent research concepts involving ZrP‑supported bimetallic nanostructures and future directions integrating nanostructuring and machine learning are outlined, underscoring the promising potential of ZrP‑based materials in advanced catalytic systems.\n\nSelected References\n\nLi, Xiaoyu, et al.  ACS applied materials &amp; interfaces 12.27 (2020): 30670-30679.\n\nCasciola, Mario.  Solid State Ionics 336 (2019): 1-10\n\nFiliciotto, L., and R. Luque. Green Chemistry and Chemical Engineering (2018)
BEGIN:VALARM
ACTION:DISPLAY
DESCRIPTION:REMINDER
TRIGGER;RELATED=START:-PT00H15M00S
END:VALARM
END:VEVENT
END:VCALENDAR
