BEGIN:VCALENDAR
VERSION:2.0
PRODID:-//Events//NONSGML v1.0//EN
METHOD:PUBLISH
BEGIN:VEVENT
DTSTART;TZID="Pacific Time (US & Canada)":20180427T000000
DTEND;TZID="Pacific Time (US & Canada)":20180428T235959
SUMMARY:College Music Society NW Chapter Regional Conference
LOCATION:
DESCRIPTION:CMS Pacific NW Chapter Regional Conference\n\nApril 27-28\n\nWashington State University\n\n&nbsp;\n\nFriday, April 27\n\nCMS Pacific Northwest Composers Concert\n\n8:00pm Kimbrough Concert Hall\n\nFeaturing works by Judy Bruce, Jacob Polaczyk, Greg Steinke, and Tom Baker.\n\nAdmission is free and open to the public.\n\nSaturday, April 28\n\nCMS Pacific Northwest Chapter Performers Concert\n\n4:00pm  Kimbrough Concert Hall\n\nThe College Music Society Pacific Northwest Chapter will be holding the final concert of its Regional Conference. The CMS PNW Conference Committee is proud to present the Performers Concert which will feature musicians from all over the United States and Canada: Jennifer Chu (Juilliard), Jennifer Cooper (Montana), Christopher Hahn (UMontana), Elaine Martir (WSU), Marissa Watanabe (WSU), Sofiya Chayka (WSU), Christopher Sierra (WSU), Michael Seregow (WSU), Leonard Garrison (UIdaho), Rutht Boden (WSU), and James Reid (UIdaho).\n\nThese performers, who range from students to professional, were selected from a highly talented group of applicants. Works by Alan Hovhaness, Isaac Albéniz, Michael Conway Baker, Henri Duparc, and Harvey Sollberger will be performed at 4:00 PM in Kimbrough Concert Hall.\n\nAdmission is free and open to the public.
BEGIN:VALARM
ACTION:DISPLAY
DESCRIPTION:REMINDER
TRIGGER;RELATED=START:-PT00H15M00S
END:VALARM
END:VEVENT
END:VCALENDAR
