BEGIN:VCALENDAR
VERSION:2.0
PRODID:-//Events//NONSGML v1.0//EN
METHOD:PUBLISH
BEGIN:VEVENT
DTSTART;TZID="Pacific Time (US & Canada)":20190822T161000
DTEND;TZID="Pacific Time (US & Canada)":20190822T170000
SUMMARY:Colloquium: Physics &amp; Astronomy &#8211; Dr. Brian Saam
LOCATION:Webster Physical Science Building, Pullman, WA 99163
DESCRIPTION:The Department of Physics and Astronomy invites all to a colloquium featuring Dr. Brian Saam, Chair of Physics &amp; Astronomy. Dr. Saam will present their talk, “State of the Department.”\n\nMeet for refreshments before the lecture at 3:45 – 4:10 p.m. in the foyer on floor G above the lecture hall.\n\nAbstract:\n\nThe whole department--faculty, staff, students, and anyone else sharing in our common purpose--is invited to help kick-off the AY 2019-20 colloquium series with the department chair&#039;s annual report and charge for the coming year. This will not be a technical physics/astronomy colloquium but rather a review of the past year&#039;s highlights, an introduction to new members of the department, and a brief statement of the chair&#039;s outlook for the coming academic year and beyond. Come hear about plans to celebrate our 100th anniversary as a department, host the Conference on Undergraduate Women in Physics, and expand the size of the faculty by more than 10%! As always, there will be time for questions, concerns, and heckling.\n\n&nbsp;
BEGIN:VALARM
ACTION:DISPLAY
DESCRIPTION:REMINDER
TRIGGER;RELATED=START:-PT00H15M00S
END:VALARM
END:VEVENT
END:VCALENDAR
