BEGIN:VCALENDAR
VERSION:2.0
PRODID:-//Events//NONSGML v1.0//EN
METHOD:PUBLISH
BEGIN:VEVENT
DTSTART;TZID="Pacific Time (US & Canada)":20190912T161000
DTEND;TZID="Pacific Time (US & Canada)":20190912T170000
SUMMARY:Colloquium: Physics &amp; Astronomy &#8211; Dr. Bruce Remington
LOCATION:Webster Physical Science Building, Pullman, WA 99163
DESCRIPTION:The Department of Physics and Astronomy invites all to a colloquium featuring Dr. Bruce Remington, Lawrence Livermore National Laboratory. Dr. Remington will present their talk, “From kilobars to gigabars: probing matter at extreme states of deformation on NIF.”\n\nMeet for refreshments before the lecture at 3:45–4:10 p.m. in the foyer on floor G above the lecture hall.\n\nAbstract:\n\nOver the past 3 decades, there has been an exponential increase in work done in the newly emerging field of matter at extreme states of deformation and compression, often referred to as high energy density (HED) science. This accelerating progress is due to the confluence of new experimental facilities, experimental techniques, theory, and simulations. Regimes of science hitherto thought to be out of reach in terrestrial settings are now being accessed routinely. High-pressure macroscopic states of matter are being experimentally studied on high-energy, high-power lasers and pulsed power facilities, and next-generation light sources. Combined, this gives experimental access to the properties and dynamics of matter from femtoseconds to microseconds in time scale and from kilobars to gigabars in pressure. There are a multitude of new regimes of science that are now accessible in laboratory settings. Examples include planetary formation dynamics, asteroid and meteor impact dynamics, space hardware response to hypervelocity dust and debris impacts, advanced research into light weight armor impact response, capsule dynamics in inertial confinement fusion (ICF) research, and the basic HED properties of matter. A selection of highlights from this rapidly developing area of science and research will be given.\n\nhttps://physics.wsu.edu/events/colloquium
BEGIN:VALARM
ACTION:DISPLAY
DESCRIPTION:REMINDER
TRIGGER;RELATED=START:-PT00H15M00S
END:VALARM
END:VEVENT
END:VCALENDAR
