BEGIN:VCALENDAR
VERSION:2.0
PRODID:-//Events//NONSGML v1.0//EN
METHOD:PUBLISH
BEGIN:VEVENT
DTSTART;TZID="Pacific Time (US & Canada)":20191107T161000
DTEND;TZID="Pacific Time (US & Canada)":20191107T170000
SUMMARY:Colloquium: Physics &amp; Astronomy &#8211; Dr. Fred Gittes
LOCATION:Webster Physical Science Building, Pullman, WA 99163
DESCRIPTION:The Department of Physics and Astronomy invites you to a colloquium featuring Dr. Fred Gittes, Department of Physics and Astronomy, Washington State University. Please join us as Dr. Gittes  present his talk, “How Berry’s phase comes out of geometry.”\n\nMeet for refreshments before the lecture from 3:45 – 4:10 p.m. in the foyer on floor G above the lecture hall.\n\nAbstract:\n\nIn this pedagogical talk, I will introduce the geometric  concepts of connection and parallel transport. I&#039;ll then show how these concepts provide a natural framework and motivation for Berry’s phase, a central and often puzzling feature in quantum mechanics. This discussion will complement textbook developments of Berry’s phase.\n\nphysics.wsu.edu/events/colloquium
BEGIN:VALARM
ACTION:DISPLAY
DESCRIPTION:REMINDER
TRIGGER;RELATED=START:-PT00H15M00S
END:VALARM
END:VEVENT
END:VCALENDAR
