BEGIN:VCALENDAR
VERSION:2.0
PRODID:-//Events//NONSGML v1.0//EN
METHOD:PUBLISH
BEGIN:VEVENT
DTSTART;TZID="Pacific Time (US & Canada)":20190206T130000
DTEND;TZID="Pacific Time (US & Canada)":20190206T140000
SUMMARY:Community of Practice
LOCATION:Spark
DESCRIPTION:Community of Practice meetings provide faculty an opportunity to share and discuss their teaching experiences and ideas with their peers.\n\n\n\n 	All Faculty: For all disciplines and course environments. (February 6, April 10)\n\n 	Large Enrollment:  For all disciplines and course environments. Will focus on large enrollment courses. (March 6)\n\n\n\nVirtual option offered.
BEGIN:VALARM
ACTION:DISPLAY
DESCRIPTION:REMINDER
TRIGGER;RELATED=START:-PT00H15M00S
END:VALARM
END:VEVENT
END:VCALENDAR
