BEGIN:VCALENDAR
VERSION:2.0
PRODID:-//Events//NONSGML v1.0//EN
METHOD:PUBLISH
BEGIN:VEVENT
DTSTART;TZID="Pacific Time (US & Canada)":20230919T180000
DTEND;TZID="Pacific Time (US & Canada)":20230919T190000
SUMMARY:Conducting Independent Research as a Global Campus Student
LOCATION:WSU System-wide
DESCRIPTION:Hear from the Director of the Office of Undergraduate Research (Dr. Jeremy Lessmann) and the Director of the Online Psychology Degree Program (Dr. Lee Daffin) who ALSO mentors Global campus undergraduates in research.
BEGIN:VALARM
ACTION:DISPLAY
DESCRIPTION:REMINDER
TRIGGER;RELATED=START:-PT00H15M00S
END:VALARM
END:VEVENT
END:VCALENDAR
