BEGIN:VCALENDAR
VERSION:2.0
PRODID:-//Events//NONSGML v1.0//EN
METHOD:PUBLISH
BEGIN:VEVENT
DTSTART;TZID="Pacific Time (US & Canada)":20191016T121000
DTEND;TZID="Pacific Time (US & Canada)":20191016T123000
SUMMARY:Copyright in the Academic World
LOCATION:Online
DESCRIPTION:Led by Sam Lohmann​, Reference Librarian\n\nCopyright law matters to many aspects of academic work, from classroom teaching and readings to presentation and publication. The law can be complicated, but you don’t need to be intimidated. In this workshop we will learn and practice basic, practical skills to avoid legal hassles, such as performing a fair use assessment, identifying public domain and Creative Commons-licensed materials, and reading licenses to determine what types of copying and sharing are permitted. Questions? sam.lohmann@wsu.edu\n\nhttps://wsu.zoom.us/j/789211954\n\n&nbsp;
BEGIN:VALARM
ACTION:DISPLAY
DESCRIPTION:REMINDER
TRIGGER;RELATED=START:-PT00H15M00S
END:VALARM
END:VEVENT
END:VCALENDAR
