BEGIN:VCALENDAR
VERSION:2.0
PRODID:-//Events//NONSGML v1.0//EN
METHOD:PUBLISH
BEGIN:VEVENT
DTSTART;TZID="Pacific Time (US & Canada)":20260415T000000
DTEND;TZID="Pacific Time (US & Canada)":20260417T000000
SUMMARY:CORETECH Spring Sale
LOCATION:
DESCRIPTION:Spring is in the air, and so are the savings at CORETECH. Check out special pricing on open box, demo, and last-chance products, up to 30% off, plus shop during extended hours until 6 p.m.\n\nSpring Sale Highlights\n\n\n\n 	Payroll deduction fee waived (only $200 minimum to enroll)\n\n 	20% off AppleCare+®\n\n 	Free canvas tote with purchase\n\n 	Up to 30% off (or $400) select products\n\n
BEGIN:VALARM
ACTION:DISPLAY
DESCRIPTION:REMINDER
TRIGGER;RELATED=START:-PT00H15M00S
END:VALARM
END:VEVENT
END:VCALENDAR
