BEGIN:VCALENDAR
VERSION:2.0
PRODID:-//Events//NONSGML v1.0//EN
METHOD:PUBLISH
BEGIN:VEVENT
DTSTART;TZID="Pacific Time (US & Canada)":20230305T150000
DTEND;TZID="Pacific Time (US & Canada)":20230305T213000
SUMMARY:Coug Day at the Roughnecks &#8211; Houston, TX
LOCATION:Off Campus
DESCRIPTION:Football season is back early! Join WSU alumni, families, friends, and fans at the XFL Houston Roughnecks game on March 5 as they take on the San Antonio Brahmas! The XFL is a fan-first, fast-paced global professional football league with innovative rules and an enhanced 360-game experience. The league will feature exciting gameplay innovations that deliver fans a faster pace of play and more action. The XFL features several former NFL and NCAA stars, including former Coug running back Max Borghi (’21) and former Coug wide receiver Travell Harris (’21), who both play on the Houston Roughnecks.\n\nTo purchase tickets, visit the WSU Alumni Association website. You will be redirected to our secure ticket link on Fevo, where you can select seats in one of three Coug sections: 134, 133, or 132.\n\nParking is available in the adjacent lots or in the garage. If you’d like to tailgate prior to the game, look for the Red Toyota Tundra and the WSU flag in the Green lot starting at 3:00 p.m. Central.\n\nDon’t forget to wear your Coug gear, and we’ll see you there!\n\nCost\n\nPrices vary based on the section you choose.\n\nNOTE: The prices below do not include additional fees\n\n$24 per ticket in Section 134\n\n$46 per ticket in Section 133\n\n$62.50 per ticket in Section 132\n\nSchedule\n\n3:00 p.m. - Tailgating in the Green lot - look for the red Toyota Tundra with the WSU flag\n\n5:30 p.m. - Stadium gates open\n\n7:00 p.m. - Kickoff\n\n&nbsp;
BEGIN:VALARM
ACTION:DISPLAY
DESCRIPTION:REMINDER
TRIGGER;RELATED=START:-PT00H15M00S
END:VALARM
END:VEVENT
END:VCALENDAR
