BEGIN:VCALENDAR
VERSION:2.0
PRODID:-//Events//NONSGML v1.0//EN
METHOD:PUBLISH
BEGIN:VEVENT
DTSTART;TZID="Pacific Time (US & Canada)":20190211T110000
DTEND;TZID="Pacific Time (US & Canada)":20190211T120000
SUMMARY:Cougar Capture: Panopto
LOCATION:Spark
DESCRIPTION:Learn how to use this flexible recording and uploading tool. Create video lessons, in-video quizzing and schedule recordings. What is Panopto?\n\nVirtual option offered.\n\nRegister for Cougar Capture: Panopto
BEGIN:VALARM
ACTION:DISPLAY
DESCRIPTION:REMINDER
TRIGGER;RELATED=START:-PT00H15M00S
END:VALARM
END:VEVENT
END:VCALENDAR
