BEGIN:VCALENDAR
VERSION:2.0
PRODID:-//Events//NONSGML v1.0//EN
METHOD:PUBLISH
BEGIN:VEVENT
DTSTART;TZID="Pacific Time (US & Canada)":20260423T160000
DTEND;TZID="Pacific Time (US & Canada)":20260423T170000
SUMMARY:Cougar Chef Throwdown: BBQ Showdown
LOCATION:Compton Union Building
DESCRIPTION:Four WSU Dining chefs will compete to create their best take on BBQ using a protein, a Spiceology blend, homemade BBQ sauce, and a side dish. Taste, vote, and help crown the champion! Gluten-free and vegan options will be available.\n\n
BEGIN:VALARM
ACTION:DISPLAY
DESCRIPTION:REMINDER
TRIGGER;RELATED=START:-PT00H15M00S
END:VALARM
END:VEVENT
END:VCALENDAR
