BEGIN:VCALENDAR
VERSION:2.0
PRODID:-//Events//NONSGML v1.0//EN
METHOD:PUBLISH
BEGIN:VEVENT
DTSTART;TZID="Pacific Time (US & Canada)":20231129T180000
DTEND;TZID="Pacific Time (US & Canada)":20231129T183000
SUMMARY:Cougs and Cubs: An Evening of Books and Activities
LOCATION:Online
DESCRIPTION:We&#039;re excited to invite you and your family to a Book Night under the stars, where we will be reading, Gratitude is My Superpower: A children’s book about Giving Thanks and Practicing Positivity written by Alicia Ortego. Immerse yourselves in the magic of storytelling as we come together to explore gratitude. This event will teach your little ones to appreciate the warmth of home, time spent playing with friends, and family relationships. That&#039;s not all – we&#039;ve prepared an engaging activity that will make the evening even more special.\n\nThe first 10 families to register by 11/20 for this event will receive an exclusive activity kit that promises extra fun and excitement. If you&#039;re interested in securing a kit for your family, be sure to sign up at your earliest convenience! We will also be raffling the book to one lucky family at the end of the event so make sure to register now!\n\nIn case you&#039;re looking to share this enchanting experience with more than one family, please don&#039;t hesitate to reach out to us at global.connections@wsu.edu. We&#039;d be thrilled to arrange additional activity kits to accommodate everyone&#039;s participation.
BEGIN:VALARM
ACTION:DISPLAY
DESCRIPTION:REMINDER
TRIGGER;RELATED=START:-PT00H15M00S
END:VALARM
END:VEVENT
END:VCALENDAR
