BEGIN:VCALENDAR
VERSION:2.0
PRODID:-//Events//NONSGML v1.0//EN
METHOD:PUBLISH
BEGIN:VEVENT
DTSTART;TZID="Pacific Time (US & Canada)":20230422T100000
DTEND;TZID="Pacific Time (US & Canada)":20230422T120000
SUMMARY:Cougs Care: Earth Day Clean Up with Spokane Riverkeeper
LOCATION:Off Campus
DESCRIPTION:Join fellow Greater Inland Empire Cougs for a special partnership with Spokane Riverkeeper and help clean up the Spokane River on Earth Day. Riverkeeper is hosting its first and largest public river cleanup of the year, and we want to show up to participate!\n\nMeet the group at People’s Park, west of downtown Spokane on Riverside Avenue. Riverkeeper will provide gloves and bags. Post-cleanup, join us for refreshments and Coug camaraderie at Brickwest Brewing Co.\n\nAll WSU alums, students, friends, and fans are welcome to participate in this important initiative. Don’t forget to wear solid walking shoes, as well as your Coug gear so we can easily spot you!\n\nRegister to attend by Friday, April 21, at 3:00 p.m. Pacific on both the WSU Alumni Association website as well as the Spokane Riverkeeper website. We’ll see you there!\n\nRegistration\n\n\n\n 	Sign up to volunteer through Spokane Riverkeeper on their website HERE.\n\n 	In addition, please follow the crimson registration button above to let the WSU Alumni Association know you will be attending. The WSUAA can then coordinate with Spokane Riverkeeper to provide Cougs with an assigned location so we can work together.\n\n
BEGIN:VALARM
ACTION:DISPLAY
DESCRIPTION:REMINDER
TRIGGER;RELATED=START:-PT00H15M00S
END:VALARM
END:VEVENT
END:VCALENDAR
