BEGIN:VCALENDAR
VERSION:2.0
PRODID:-//Events//NONSGML v1.0//EN
METHOD:PUBLISH
BEGIN:VEVENT
DTSTART;TZID="Pacific Time (US & Canada)":20230415T130000
DTEND;TZID="Pacific Time (US & Canada)":20230415T160000
SUMMARY:Cougs Meet &amp; Greet &#8212; Greater Philadelphia
LOCATION:Off Campus
DESCRIPTION:Calling all Greater Philadelphia Cougs! Join us on Saturday, April 15, at 1:00 p.m. Eastern for a fun afternoon of Cougs and conversations at Conshohocken Brewing Company KoP. This gathering is an excellent opportunity to connect with other WSU alumni and friends.\n\nIf you purchased Cougar Cheese through our Cougar Cheese Pre-Sale, you will pick up your cheese during this Meet &amp; Greet. The deadline to purchase cheese is Monday, April 3, at 10:00 a.m. Eastern.\n\nPlease RSVP on the WSU Alumni Association website. Don’t forget to wear your Coug gear, and we’ll see you there!
BEGIN:VALARM
ACTION:DISPLAY
DESCRIPTION:REMINDER
TRIGGER;RELATED=START:-PT00H15M00S
END:VALARM
END:VEVENT
END:VCALENDAR
