BEGIN:VCALENDAR
VERSION:2.0
PRODID:-//Events//NONSGML v1.0//EN
METHOD:PUBLISH
BEGIN:VEVENT
DTSTART;TZID="Pacific Time (US & Canada)":20230330T173000
DTEND;TZID="Pacific Time (US & Canada)":20230330T193000
SUMMARY:Cougs on Wall Street Networking Night &#8212; New York
LOCATION:Off Campus
DESCRIPTION:Join WSU Carson College of Business (CCB) students for a networking night to remember during their annual visit to NYC. All Big Apple Coug alumni, students, and friends in any industry are welcome to attend an evening of Cougs and conversations at City Winery Grand Central - Vanderbilt Hall. Twenty current CCB students, faculty, and staff are eager to meet you! Heavy appetizers and two drinks will be provided, courtesy of CCB.\n\nRSVP on the WSU Alumni Association website and let us know you’ll be there.\n\nDon’t forget to wear crimson and gray, and we’ll see you there.\n\nAdditional food and beverages are available for individual purchase from the establishment.
BEGIN:VALARM
ACTION:DISPLAY
DESCRIPTION:REMINDER
TRIGGER;RELATED=START:-PT00H15M00S
END:VALARM
END:VEVENT
END:VCALENDAR
